BEGIN:VCALENDAR
VERSION:2.0
PRODID:-//wp-events-plugin.com//7.2.3.1//EN
BEGIN:VEVENT
UID:30@adventure-unknown.com
DTSTART:20241207T170000Z
DTEND:20241207T230000Z
DTSTAMP:20241203T223820Z
URL:https://adventure-unknown.com/events/adventure-uknown-annual-holiday-p
 arty/
SUMMARY:Adventure Unknown Annual Holiday Party!
DESCRIPTION:\nHoliday - White Elephant - Karaoke\n\n\n\n\n\n🎄 Join Us fo
 r AU’s Annual Holiday Party! 🎄\n'Tis the season to celebrate\, and we
 ’d love for you to join us at AU for our Annual Christmas Holiday Party!
 \nCome together with friends for an evening filled with festive fun\, food
 \, and plenty of holiday cheer. Here’s what you can look forward to:\n&n
 bsp\;\n\n 	\nPotluck Dinner: Bring your favorite holiday dish to share! Wh
 ether it’s a savory side\, sweet treat\, or a family recipe\, we can’t
  wait to taste what you bring.\n 	\nKringle Karaoke: Warm up those vocal c
 ords for a holiday-themed karaoke session! Sing your heart out to classic 
 Christmas carols and fun holiday tunes.\n 	\nUgly Sweater Contest: Wear yo
 ur most outrageous\, festive\, or just plain funny holiday sweater for a c
 hance to win a prize! Let’s see who can rock the ugliest sweater in styl
 e.\n 	Ornament: Please think about bringing an ornament to fill our empty 
 AU Tree!&nbsp\;\n 	\nAnd More: With games\, surprises\, and festive vibes 
 all around\, it’s sure to be a night to remember!\n\nWe can't wait to ce
 lebrate the season with you—mark your calendar and get ready for a jolly
  good time!\n\n\n\n&nbsp\;\n\n\n\n\n\n\n\n\nWhen\n\n\nSaturday\, December 
 07 5:00 PM - 11:00 PM\n\n\n
ATTACH;FMTTYPE=image/jpeg:https://adventure-unknown.com/wp-content/uploads
 /2024/11/hermey_the_elf_and_rudolph.webp
LOCATION:Adventure Unknown\, 1505 Fenpark Dr\, Fenton\, Mo\, 63026\, United
  States
X-APPLE-STRUCTURED-LOCATION;VALUE=URI;X-ADDRESS=1505 Fenpark Dr\, Fenton\, 
 Mo\, 63026\, United States;X-APPLE-RADIUS=100;X-TITLE=Adventure Unknown:ge
 o:0,0
END:VEVENT
END:VCALENDAR