BEGIN:VCALENDAR
VERSION:2.0
PRODID:-//wp-events-plugin.com//7.2.3.1//EN
BEGIN:VEVENT
UID:142@adventure-unknown.com
DTSTART;TZID=America/Chicago:20250129T080000
DTEND;TZID=America/Chicago:20250129T090000
DTSTAMP:20250128T161015Z
URL:https://adventure-unknown.com/events/au-networking-coffee-tasting/
SUMMARY:AU Networking Coffee Tasting
DESCRIPTION:Join us for a morning coffee tasting and &nbsp\;"networking" me
 eting with tasting's from Empyr Coffee. They are a craft coffee company th
 at does custom partnerships. Website Linked Below.\n\n8 AM\n\nhttps://empy
 rcoffee.com
ATTACH;FMTTYPE=image/jpeg:https://adventure-unknown.com/wp-content/uploads
 /2025/01/Screenshot-2025-01-28-at-10.09.01 AM.png
END:VEVENT
BEGIN:VTIMEZONE
TZID:America/Chicago
X-LIC-LOCATION:America/Chicago
BEGIN:STANDARD
DTSTART:20241103T010000
TZOFFSETFROM:-0500
TZOFFSETTO:-0600
TZNAME:CST
END:STANDARD
END:VTIMEZONE
END:VCALENDAR