BEGIN:VCALENDAR
VERSION:2.0
PRODID:-//wp-events-plugin.com//7.2.3.1//EN
BEGIN:VEVENT
UID:154@adventure-unknown.com
DTSTART;TZID=America/Chicago:20250122T150000
DTEND;TZID=America/Chicago:20250122T163000
DTSTAMP:20251113T214250Z
URL:https://adventure-unknown.com/events/direct-impact-wednesdays-3-2025-0
 1-22/
SUMMARY:Direct Impact Wednesdays
DESCRIPTION:Asks/needs for social media strategies\, reviews\, and ways to 
 boost your online presence Example: Google reviews\, likes\, social media 
 posts to share\, or anything you would like help or support with. Hiring. 
  Firing.  Business coaching.  You name it.  The knowledge and power in thi
 s meeting will make your business better.  \n \nThis is the time to receiv
 e support and real-time engagement as we actively collaborate to elevate e
 ach business!
ATTACH;FMTTYPE=image/jpeg:https://adventure-unknown.com/wp-content/uploads
 /2024/11/Direct-Impact-Wednesdays.jpg
END:VEVENT
BEGIN:VTIMEZONE
TZID:America/Chicago
X-LIC-LOCATION:America/Chicago
BEGIN:STANDARD
DTSTART:20241103T010000
TZOFFSETFROM:-0500
TZOFFSETTO:-0600
TZNAME:CST
END:STANDARD
END:VTIMEZONE
END:VCALENDAR